View In:
ArcGIS JavaScript
ArcGIS Online Map Viewer
ArcGIS Earth
ArcGIS Pro
Service Description:
Map Name: Cooperative_Layout_Rasters
Legend
All Layers and Tables
Dynamic Legend
Dynamic All Layers
Layers:
-
(LARECHS) Lahore Railway Employees Cooperative Housing Society Ltd- Bare Main Dars.tif (0)
-
(LARECHS) Lahore Railway Employees Cooperative Housing Society Ltd. Lahore- Barre Mian Dars Extension-Completed.tif (1)
-
(LARECHS) Lahore Railway Employees Cooperative Housing Society Ltd. Lahore- Canal Bank-Completed.tif (2)
-
(LARECHS) Lahore Railway Employees Cooperative Housing Society Ltd. Lahore- MET I-completed.tif (3)
-
(LARECHS) Lahore Railway Employees Cooperative Housing Society Ltd. Lahore- MET II-completed.tif (4)
-
(LARECHS) Lahore Railway Employees Cooperative Housing Society Ltd. Lahore-Grid Station No-1-Completed.tif (5)
-
(LARECHS) Lahore Railway Employees Cooperative Housing Society Ltd. Lahore-Griffin-Completed.tif (6)
-
(LARECHS) Lahore Railway Employees Cooperative Housing Society Ltd. Lahore-Shahdara Extension-Completed.tif (7)
-
(LARECHS) Lahore Railway Employees Cooperative Housing Society Ltd. Lahore-SHAHDARA-Completed.tif (8)
-
(LARECHS) Lahore Railway Employees Cooperative Housing Society Ltd. Lahore-Shalimar-Completed.tif (9)
-
(LARECHS) Lahore Railway Employees Cooperative Housing Society Ltd. Lahore-Walton Model-Completed.tif (10)
-
Abdalians Cooperative Housing Society Ltd Lahore.tif (11)
-
Accounts Group Officers Cooperative Housing Society Ltd Lahore.tif (12)
-
Aitchison College Staff Cooperative Housing Society Ltd Lahore.tif (13)
-
Alfalah Avenue 1 PCSIR Staff Cooperative Housing Scheme-Lahore.tif (14)
-
Al-Mansoorah Cooperative Housing Society Limited.tif (15)
-
Alpha Cooperative Housing Society Limited Lahore.tif (16)
-
Audit & Accounts Cooperative Housing Society Ltd Lahore Phase 2.tif (17)
-
Awaisia Cooperative Housing Society Ltd Lahore.tif (18)
-
Bankers Cooperative Housing Society Ltd. Lahore C-1.tif (19)
-
Chak No 213 RB Part 1.tif (20)
-
Cooperative House Building Society of Employees, University of Agriculture, Ltd. Faisalabad.tif (21)
-
ENGINEERING UNIVERSITY EMPLOYEES COOPERATIVE HOUSING SOCIETY LAHORE.tif (22)
-
GECHS Housing Scheme Phase-II at Chak No 199R.B Tehsil Faisalabad.tif (23)
-
Ghaziabad and Ghaziabad Extension.tif (24)
-
Gosha-e-Ahbab Cooperative Housing Society Ltd. Lahore Phase 3.tif (25)
-
Gosha-e-Ahbab Cooperative Housing Society Phase-2 Ltd Lahore.tif (26)
-
Government Officers Cooperative Housing Society Raiwind Road (C&D).tif (27)
-
Government Superior Services of Pakistan Cooperative Housing Society Miraka Multan Road Lahore.tif (28)
-
Government Transport Head Quarters Cooperative Housing Society Ltd.tif (29)
-
Govt.Employees Cooperative Housing Society Chak No 213 R.B Part 2.tif (30)
-
Grid Station no2 Extension.tif (31)
-
Grid Station No2.tif (32)
-
I.E.P Town Sector A Situated at Mouza Bagrian Sadhoke Nangar District Lahore1.jpg.tif (33)
-
I.E.P Town Sector B Mauza Sattokatla.tif (34)
-
Inmol Employees Cooperative Housing Society.tif (35)
-
Iqbal Avenue Cooperative Housing Society Ltd Lahore Phase 3.tif (36)
-
Iqbal Avenue Cooperative Housing Society Ltd. Lahore Phase 1.tif (37)
-
Irrigation Cooperative Housing Society.tif (38)
-
Islamic research scholars cooperative housing society Ltd.Lahore.tif (39)
-
Ismailia Karimabad Cooperative Housing Society Ltd. Sargodha..tif (40)
-
Judicial Employees Cooperative Hosuing Scheme,Rawalpindi.tif (41)
-
Judicial Employees Cooperative Housing Society LTD. Gujranwala.tif (42)
-
Judicial Employees Cooperative Housing Society Ltd.tif (43)
-
L.D.A. Employees Cooperative Housing Scheme situated Mouza Niaz baig Tehsil and district Lahore.1.tif.tif (44)
-
Lahore Canal Bank Cooperative Housing Society Ltd Phase 2(Gulnishan Park).tif (45)
-
lahore cantt_1.tif (46)
-
lahore cantt_B.tif (47)
-
Lahore Chamber of Commerce & Industry Employees Cooperative Housing Society Ltd Lahore (LCCI).tif (48)
-
level 2 Crossing.tif (49)
-
Level crssoing No4.tif (50)
-
Murree Hills Cooperative Housing Society Ltd. Rawalpindi.tif (51)
-
Nashaman-e-Iqbal phase-II extension.tif (52)
-
Nasheman-e-Iqbal Cooperative Housing Scheme phase-1 khyaban.e. Jinnah Lahore.tif (53)
-
Olympians Cooperative Housing Society Ltd Lahore.tif (54)
-
Pakistan Expatriate Cooperative Housing Society Ltd. (Izmir) Lahore.tif (55)
-
Pakistan Expatriates Cooperative Housing Society Ltd.tif (56)
-
Pakistan Rajput Cooperative Housing Society Ltd. Lahore..tif (57)
-
Pakistan Technocrats Cooperative Housing Society Ltd Lahore.tif (58)
-
PASSCO Employees Cooperative Housing Society Ltd. Lahore..tif (59)
-
PCSIR Employees Cooperative Housing Society Ltd Lahore.tif (60)
-
PIA Officers Cooperative Housing Society Ltd. Rawalpindi..tif (61)
-
PIA, Employees Cooperative Housing Society Ltd. Lahore..tif (62)
-
Post Office (Mughalpura Sain Oswald Church), Lahore.tif (63)
-
Public Health Engineering Department Cooperative Housing Society.tif (64)
-
Punjab Cooperative Employees Cooperative Housing Society Ltd Lahore.tif (65)
-
Punjab Cooperative Housing Society Ltd. Lahore 1.tif (66)
-
Punjab Cooperative Housing Society Ltd. Lahore 2.tif (67)
-
Punjab Govt Employees Revenue Cooperative Housing Society Limited Khushab.tif (68)
-
Punjab Small Industries Cooperate Housing Society (Quaid e Azam Town) Ltd. Gujranwala.tif (69)
-
Punjab Small Industries Cooperative Housing Society Ltd, Multan-Completed.tif (70)
-
Rail Town Cooperative Housing Society Ltd Lahore.tif (71)
-
Rail Town Cooperative Housing Society Ltd.Lahore- Revised- Completed.tif (72)
-
Rail View Cooperative Housing Society Chakala Ltd. Rawalpindi.tif (73)
-
Revenue Employees Cooperative Housing Society Ltd Lahore.tif (74)
-
Revenue Employees Cooperative Housing Society Ltd. Lahore-Block A-Completed.tif (75)
-
Revised Pakistan Medical Cooperative Housing Society Ltd Avicenna City .tif (76)
-
River View Cooperative Housing Society Ltd Lahore.tif (77)
-
Saddat Cooperative Housing Society Ltd Lahore.tif (78)
-
Sagodha Cooperative Housing Society Bhopatian Ltd. Lahore-Completed.tif (79)
-
State Enterprises Officer Cooperative Housing Society Ltd-Lahore Phase 1&2.tif (80)
-
State life insurance Cooperative Housing Society Ltd Lahore.tif (81)
-
Sui Northern Cooperative Housing Society lahore Phase 1.tif (82)
-
Sui Northern Gas Employees Cooperative Housing Society Ltd. Lahore.tif (83)
-
Sui Northern Gas Officer Cooperative Housing Socity Ltd. Lahore-Phase 2 revised-Completed.tif (84)
-
Supreme Court Employees Cooperative Housing Society Ltd Rawalpindi.tif (85)
-
Tariq Bin Ziad Colony Vehari For Government Employees Co-operative Housing Society.tif (86)
-
The Cooperative Engineer’s Town Society A- Ext situated at Mouza kacha Nangar bagrian & Sadhoki Tehsil & District Lahore.tif (87)
-
The Engineers Cooperative Housing Society Ltd.Lahore (TEACH)-Completed.tif (88)
-
The Government Employees Cooperative Housing Society Ltd Jhang Phase 2.tif (89)
-
The Gujranwala Colleges Employees CooperativesHousing Society Limited.tif (90)
-
The Model Cooperative Housing Society Ltd. Okara.tif (91)
-
The Pakistan Government Employees Co-Operative Housing Society LTD Rawlapindi.tif (92)
-
The Planning & Development Department Employees Cooperative Housing Society Ltd Lahore.tif (93)
-
The Provincial Government Employees Cooperative Housing Society Limited(Extension I&II) - updated separate.tif (94)
-
The Punjab Board of Revenue Employees Cooperative Housing Society Ltd Lahore.tif (95)
-
TIP Employees CO-OPERAIVE Housing Society_Lahore.tif (96)
-
Wapda Employees Cooperative Housing Society Lahore, Phase-1 Extension.tif (97)
-
Wapda Employees Cooperative Housing Society Lahore, Phase-2.tif (98)
-
Wapda Employees Cooperative Housing Society Ltd Sargodha.tif (99)
-
WAPDA Employees Cooperative Housing Society Ltd. Lahore-Phase 1 revised.tif (100)
-
WAPDA Employees Cooperative Housing Society Ltd. Sheikupura.tif (101)
-
Wapda Employes Cooperative Housing Society,Gujranwala.tif (102)
-
WAPDA Finance Officers CHS Ltd. Lahore Block A_B.tif (103)
-
WAPDA Finance Officers CHS Ltd. Lahore-Block C and D.tif (104)
-
wapda town kusar.tif (105)
-
Wheatman Road (Singhpura Sabzi mandi),Lahore.tif (106)
-
Wythe Employees Cooperative Housing Society Ltd. Lahore.tif (107)
Description:
Service Item Id:
Copyright Text:
Spatial Reference:
4326
(4326)
Single Fused Map Cache: true
Tile Info:
- Height: 256
- Width: 256
- DPI: 96
-
Levels of Detail: 23
-
Level ID: 7
[ Start Tile, End Tile ]
- Resolution: 0.0054931640625
- Scale: 2311162.2171551147
-
Level ID: 8
[ Start Tile, End Tile ]
- Resolution: 0.00274658203125
- Scale: 1155581.1085775574
-
Level ID: 9
[ Start Tile, End Tile ]
- Resolution: 0.001373291015625
- Scale: 577790.5542887787
-
Level ID: 10
[ Start Tile, End Tile ]
- Resolution: 6.866455078125E-4
- Scale: 288895.27714438934
-
Level ID: 11
[ Start Tile, End Tile ]
- Resolution: 3.4332275390625E-4
- Scale: 144447.63857219467
-
Level ID: 12
[ Start Tile, End Tile ]
- Resolution: 1.71661376953125E-4
- Scale: 72223.81928609734
-
Level ID: 13
[ Start Tile, End Tile ]
- Resolution: 8.58306884765625E-5
- Scale: 36111.90964304867
-
Level ID: 14
[ Start Tile, End Tile ]
- Resolution: 4.291534423828125E-5
- Scale: 18055.954821524334
-
Level ID: 15
[ Start Tile, End Tile ]
- Resolution: 2.1457672119140625E-5
- Scale: 9027.977410762167
-
Level ID: 16
[ Start Tile, End Tile ]
- Resolution: 1.0728836059570312E-5
- Scale: 4513.9887053810835
-
Level ID: 17
[ Start Tile, End Tile ]
- Resolution: 5.364418029785156E-6
- Scale: 2256.9943526905417
-
Level ID: 18
[ Start Tile, End Tile ]
- Resolution: 2.682209014892578E-6
- Scale: 1128.4971763452709
-
Level ID: 19
[ Start Tile, End Tile ]
- Resolution: 1.341104507446289E-6
- Scale: 564.2485881726354
-
Level ID: 20
[ Start Tile, End Tile ]
- Resolution: 6.705522537231445E-7
- Scale: 282.1242940863177
-
Level ID: 21
[ Start Tile, End Tile ]
- Resolution: 3.3527612686157227E-7
- Scale: 141.06214704315886
-
Level ID: 22
[ Start Tile, End Tile ]
- Resolution: 1.6763806343078613E-7
- Scale: 70.53107352157943
- Format: MIXED
- Compression Quality: 75.0
- Origin: X: -180.0
Y: 90.0
- Spatial Reference: 4326
(4326)
Storage Info:
- Storage Format: esriMapCacheStorageModeCompactV2
- Packet Size: 128
Initial Extent:
XMin: 74.16618271901179
YMin: 31.492961539467395
XMax: 74.4546364077285
YMax: 31.713447818024655
Spatial Reference: 4326
(4326)
Full Extent:
XMin: 71.51538175794657
YMin: 30.042287412149218
XMax: 74.41055636268311
YMax: 33.86683213857765
Spatial Reference: 4326
(4326)
Units: esriDecimalDegrees
Supported Image Format Types: PNG32,PNG24,PNG,JPG,DIB,TIFF,EMF,PS,PDF,GIF,SVG,SVGZ,BMP
Document Info:
Title: Map
Author:
Comments:
Subject:
Category:
Keywords: .
AntialiasingMode: Fast
TextAntialiasingMode: Force
Supports Dynamic Layers: true
Resampling: false
MaxRecordCount: 2000
MaxImageHeight: 4096
MaxImageWidth: 4096
Supported Query Formats: JSON, geoJSON, PBF
Supports Query Data Elements: true
Min Scale: 1.8489297737240918E7
Max Scale: 1128.4971763452709
Supports Datum Transformation: true
Child Resources:
Info
Dynamic Layer
Supported Operations:
Export Map
QueryLegends
Return Updates